BEGIN:VCALENDAR
PRODID:-//Microsoft Corporation//Outlook 9.0 MIMEDIR//EN
VERSION:2.0
METHOD:PUBLISH
BEGIN:VEVENT
ORGANIZER:MAILTO:noreply@fordharrison.com
DTSTART;VALUE=DATE:20150215
DTEND;VALUE=DATE:20150216
LOCATION:  Christine Hanley will be a panelist at this event hosted by the Executive Women of the Palm Beaches When February 19, 2015 5:30 PM - 7:30 PM Where Boynton Beach Intracoastal Park Clubhouse 2240 North Federal Highway Boynton Beach, FL 33435 
TRANSP:OPAQUE
SEQUENCE:0
UID:10407fsxtask
DESCRIPTION:
X-ALT-DESC;FMTTYPE=text/html:<p><strong>About the Program</strong><br /> The Executive Women of the Palm Beaches Leadership Institute presents the <em>&quot;3rd Annual WILA Recipients Panel.&quot; </em>This is your opportunity to have an up close and personal dialogue with the recipients of the 2014 Women in Leadership Awards:</p>  <ul> 	<li>Beverly Perham</li> 	<li>Christine Hanley</li> 	<li>Judith Mitchell</li> 	<li>Pam Cahoon</li> </ul>  <p>This event will be moderated by Rena Blades, President and CEO of the Cultural Council of Palm Beach County.<br /> <br /> Tickets are $30 (only 85 spots available - first come, first served).<br /> <br /> For more information or to get your ticket, click <a href="http://ewpb.org/event-1848426">here</a>.</p> 
SUMMARY:Third Annual Women in Leadership Awards (WILA) Recipients Panel - Boynton Beach, FL
PRIORITY:5
CLASS:PUBLIC
BEGIN:VALARM
TRIGGER:PT1440M
ACTION:DISPLAY
DESCRIPTION:Reminder
END:VALARM
END:VEVENT
END:VCALENDAR
