BEGIN:VCALENDAR
PRODID:-//Microsoft Corporation//Outlook 9.0 MIMEDIR//EN
VERSION:2.0
METHOD:PUBLISH
BEGIN:VEVENT
ORGANIZER:MAILTO:noreply@fordharrison.com
DTSTART;VALUE=DATE:20151014
DTEND;VALUE=DATE:20151015
LOCATION:  Recorded: Wednesday, October 14, 2015
TRANSP:OPAQUE
SEQUENCE:0
UID:10886fsxtask
DESCRIPTION:
X-ALT-DESC;FMTTYPE=text/html:<p><strong>ABOUT THE PROGRAM</strong><br /> Are you a multinational company? Are you transferring executives to the Americas? Join members of Ius Laboris Americas for a 4 part webinar series on the ins and outs of moving executive level employees across the Americas.</p>  <p>This third session will cover a range of topics including issues that arise with short-term business travelers as well as long term and permanent assignments and the consequences employers may face for non-compliance.</p>  <p>Please save the date to join this complimentary webinar on October 14, 2015 at 1:00 pm - 2:00 pm (Eastern).</p>  <p><em>FordHarrison is recognized by SHRM to offer Professional Development Credits (PDCs) for the SHRM-CPSM or SHRM-SCPSM. This course is approved for 1 hour of PDCs.&nbsp; This program is also pre-approved by HRCI for 1 hour of PHR, GPHR, and SPHR recertification credit.&nbsp; </em></p>  <p><strong>REGISTRATION</strong><br /> This webinar took place on Wednesday, October 14 - to view a recording, please click the registration link below.</p> 
SUMMARY:"Moving Executive Level Employees to the Americas - A Focus on Immigration (US, Brazil, and Colombia) - Part III" - Complimentary Webinar
PRIORITY:5
CLASS:PUBLIC
BEGIN:VALARM
TRIGGER:PT1440M
ACTION:DISPLAY
DESCRIPTION:Reminder
END:VALARM
END:VEVENT
END:VCALENDAR
