BEGIN:VCALENDAR
PRODID:-//Microsoft Corporation//Outlook 9.0 MIMEDIR//EN
VERSION:2.0
METHOD:PUBLISH
BEGIN:VEVENT
ORGANIZER:MAILTO:noreply@fordharrison.com
DTSTART;VALUE=DATE:20151105
DTEND;VALUE=DATE:2015116
LOCATION: 
TRANSP:OPAQUE
SEQUENCE:0
UID:10889fsxtask
DESCRIPTION:
X-ALT-DESC;FMTTYPE=text/html:<p><strong><span style="font-size:14pt">Recorded: Thursday, November 5, 2015</span></strong></p>  <p><strong>About the Program</strong><br /> Last spring, the United States Supreme Court articulated a new standard requiring employers to accommodate pregnant employees.&nbsp; Since then, there has been an influx of accommodation requests and an increase in pregnancy discrimination litigation.&nbsp;</p>  <p>Please join FordHarrison attorneys Leanne Mehrman, <a href="mailto:lmehrman@fordharrison.com">lmehrman@fordharrison.com</a>,<br /> and Nicole Bermel Dunlap, <a href="mailto:ndunlap@fordharrison.com">ndunlap@fordharrison.com</a>, on Thursday, November 5, 2015 as they explain the new pregnancy accommodation standard and how it interplays with the Family and Medical Leave Act (FMLA) and Americans with Disabilities Act (ADA), as amended.&nbsp; You will learn how to properly assess pregnant employees&#39; requests for accommodations and what responses are and are not recommended.<br /> <br /> <strong>Continuing Education</strong></p>  <ul> 	<li>This program is pre-approved by HRCI for 1 hour of PHR, GPHR and SPHR recertification credit.<em> </em></li> 	<li>FordHarrison is recognized by SHRM to offer Professional Development Credits (PDCs) for the SHRM-CPSM or SHRM-SCPSM. Approval is pending from SHRM for 1 hour of PDCs.</li> </ul>  <p><strong>Registration</strong><br /> This webinar took place on Thursday, November 5 - to view a recording, please click the registration link below.</p> 
SUMMARY:What Your Expecting Employees May Be Expecting: Are You Complying With the Supreme Court's New Pregnancy Accommodation Standard? Complimentary Webinar
PRIORITY:5
CLASS:PUBLIC
BEGIN:VALARM
TRIGGER:PT1440M
ACTION:DISPLAY
DESCRIPTION:Reminder
END:VALARM
END:VEVENT
END:VCALENDAR
