BEGIN:VCALENDAR
PRODID:-//Microsoft Corporation//Outlook 9.0 MIMEDIR//EN
VERSION:2.0
METHOD:PUBLISH
BEGIN:VEVENT
ORGANIZER:MAILTO:noreply@fordharrison.com
DTSTART;VALUE=DATE:20151111
DTEND;VALUE=DATE:20151112
LOCATION: 
TRANSP:OPAQUE
SEQUENCE:0
UID:10917fsxtask
DESCRIPTION:
X-ALT-DESC;FMTTYPE=text/html:<p><strong><em>Michelle Abidoye, California-based FordHarrison Partner, will be moderator of the panel.&nbsp;&nbsp;</em></strong></p>  <p><strong>When</strong><br /> Wednesday, November 11, 2015<br /> 8:00 AM - 9:30 AM</p>  <p><strong>Where</strong><br /> Skadden<br /> 300 South Grand Avenue<br /> Suite 3400<br /> Los Angeles, CA 90071</p>  <p><strong>About the Program</strong><br /> This program will address how the sharing economy both benefits and challenges women. The panel will discuss social and cultural implications as well as how the sharing economy creates new opportunities. We will also discuss how women in particular are disparately impacted or benefitted. Panelists include: Carolyn Yashari Becher, Co-Founder and COO of Hop Skip Drive; Lynne Fox, Style and Sales Consultant at Worth New York, and Danielle Lackey, CEO of Cadence Counsel. The program will be moderated by Michelle Abidoye, Partner at Ford Harrison.</p>  <p><strong>Registration</strong><br /> To register, please click here.</p> 
SUMMARY:The Sharing Economy and its Impact on Women - WLALA - Los Angeles, CA
PRIORITY:5
CLASS:PUBLIC
BEGIN:VALARM
TRIGGER:PT1440M
ACTION:DISPLAY
DESCRIPTION:Reminder
END:VALARM
END:VEVENT
END:VCALENDAR
