BEGIN:VCALENDAR
PRODID:-//Microsoft Corporation//Outlook 9.0 MIMEDIR//EN
VERSION:2.0
METHOD:PUBLISH
BEGIN:VEVENT
ORGANIZER:MAILTO:noreply@fordharrison.com
DTSTART;VALUE=DATE:20160311
DTEND;VALUE=DATE:20160312
LOCATION: 
TRANSP:OPAQUE
SEQUENCE:0
UID:10965fsxtask
DESCRIPTION:
X-ALT-DESC;FMTTYPE=text/html:<p><strong><em>Elizabeth Rodriguez will be a speaker at the 2016 South Florida Women in Leadership Symposium.</em></strong></p>  <p><strong><u>When</u></strong><br /> Friday, March 11, 2016<br /> 8:00 AM - 12:00 PM</p>  <p><strong><u>Where</u></strong><br /> Florida International University<br /> Wolfe University Center<br /> 3000 NE 151 Street<br /> North Miami, FL 33181</p>  <p><strong><u>About the Program</u></strong><br /> <br /> &quot;Securing Your Place at the Table&quot;</p>  <p>The purpose of this annual event is to bring together a diverse mix of successful women leaders who - by discussing topics that pertain to today&#39;s workforce - will educate, inspire, and encourage attendees to reflect on their own goals and status as they strive to advance within their organizations.</p>  <p><strong><u>Registration</u></strong><br /> To register, click <a href="http://floridadiversitycouncil.org/what-we-do/events-programs/women-in-leadership-symposiums/_2016/south-florida-2016/">here</a>.</p> 
SUMMARY:2016 South Florida Women in Leadership Symposium
PRIORITY:5
CLASS:PUBLIC
BEGIN:VALARM
TRIGGER:PT1440M
ACTION:DISPLAY
DESCRIPTION:Reminder
END:VALARM
END:VEVENT
END:VCALENDAR
