BEGIN:VCALENDAR
PRODID:-//Microsoft Corporation//Outlook 9.0 MIMEDIR//EN
VERSION:2.0
METHOD:PUBLISH
BEGIN:VEVENT
ORGANIZER:MAILTO:noreply@fordharrison.com
DTSTART;TZID="Etc/UTC":20170824T160000
DTEND;TZID="Etc/UTC":20170824T170000
LOCATION: 
TRANSP:OPAQUE
SEQUENCE:0
UID:12816fsxtask
DESCRIPTION:
X-ALT-DESC;FMTTYPE=text/html:<p><strong><u>This program was recorded Thursday, August 24, 2017.</u></strong></p>  <p><u><strong>About the Program</strong></u><br /> Complaints about access to restaurants and other retail establishments? Challenges to website design? Today Public Accommodation lawsuits are growing and plaintiffs&rsquo; attorneys are becoming more creative. While most companies and business owners are familiar with Title I of the Americans with Disabilities Act (ADA)&nbsp;that covers employment, many lack understanding about disability access issues under Title III that covers Public Accommodations. Please join FordHarrison attorneys Wes Redmond and Greg Grisham for a presentation discussing how Title III of the ADA may impact retailers and other organizations subject to its provisions. The program will examine recent cases and developments under Title III of the ADA and discuss the scope of its coverage, its requirements and offer suggestions on how to guard against and respond to Public Accommodation lawsuits and claim letters.<br /> <br /> <u><strong>Continuing Education</strong></u></p>  <ul> 	<li>FordHarrison is recognized by SHRM to offer Professional Development Credits (PDCs) for the SHRM-CPSM or SHRM-SCPSM. This course is approved for 1 hour of PDC.</li> 	<li>This program is also pre-approved by HRCI for 1 hour of PHR, GPHR, and SPHR recertification credit.</li> </ul>  <p><u><strong>Registration</strong></u><br /> To receive a recording of this webinar, click register below.<br /> <br /> &nbsp;</p> 
SUMMARY:"An Overview of Title III of the Americans with Disabilities Act: Public Accommodation and Growing Threat of Claims and Litigation" - Webinar
PRIORITY:5
CLASS:PUBLIC
BEGIN:VALARM
TRIGGER:PT1440M
ACTION:DISPLAY
DESCRIPTION:Reminder
END:VALARM
END:VEVENT
END:VCALENDAR
