BEGIN:VCALENDAR
PRODID:-//Microsoft Corporation//Outlook 9.0 MIMEDIR//EN
VERSION:2.0
METHOD:PUBLISH
BEGIN:VEVENT
ORGANIZER:MAILTO:noreply@fordharrison.com
DTSTART;VALUE=DATE:20170606
DTEND;VALUE=DATE:2017067
LOCATION: 
TRANSP:OPAQUE
SEQUENCE:0
UID:12878fsxtask
DESCRIPTION:
X-ALT-DESC;FMTTYPE=text/html:<p>This timely, top-of-mind, topic is a growing concern for employers and employees nationwide. Presented by FordHarrison partners Christine Hanley and David Gobeo, &ldquo;The Prism of Workplace Violence&rdquo; will explore the myriad facets of the workplace violence phenomena beginning with an overview of what it is and how it happens, who is vulnerable and what employers and employees may do to mitigate workplace violence.</p> 
SUMMARY:"The Prism of Workplace Violence," Calibrate seminar
PRIORITY:5
CLASS:PUBLIC
BEGIN:VALARM
TRIGGER:PT1440M
ACTION:DISPLAY
DESCRIPTION:Reminder
END:VALARM
END:VEVENT
END:VCALENDAR
