BEGIN:VCALENDAR
PRODID:-//Microsoft Corporation//Outlook 9.0 MIMEDIR//EN
VERSION:2.0
METHOD:PUBLISH
BEGIN:VEVENT
ORGANIZER:MAILTO:noreply@fordharrison.com
DTSTART;TZID="Etc/UTC":20180314T170000
DTEND;TZID="Etc/UTC":20180314T180000
LOCATION: This webinar was recorded on Wednesday, March 14, 2018.
TRANSP:OPAQUE
SEQUENCE:0
UID:13729fsxtask
DESCRIPTION:
X-ALT-DESC;FMTTYPE=text/html:<p><u><strong>About the Program</strong></u><br /> Join FordHarrison partners Ed Carlstedt and Jeff Lehrer, members of our Healthcare&nbsp;and Non-Compete, Trade Secrets &amp; Business Litigation Practice Groups, for an informative discussion of the best practices employers should use to draft and enforce non-compete agreements and other restrictive covenants in the healthcare field. &nbsp;While state laws vary on these issues, Ed and Jeff will provide multi-jurisdictional tips and pitfalls related to protecting critical business assets such as confidential/proprietary information, trade secrets, customer relationships, vendor relationships and employee relationships. &nbsp;During this one hour presentation, in Part II of the &quot;Physician as Employee/Independent Contractor&quot; webinar series, they will identify the primary challenges related to the enforceability of these types of agreements and ways to avoid these challenges. &nbsp;</p>  <p><u><strong>Continuing Education</strong></u></p>  <ul> 	<li>FordHarrison is recognized by SHRM to offer Professional Development Credits (PDCs) for the SHRM-CPSM or SHRM-SCPSM. This course is approved for 1 hour of PDCs.</li> 	<li>This program is also pre-approved by HRCI for 1 hour of PHR, GPHR, and SPHR recertification credit.</li> </ul>  <p><u><strong>Registration</strong></u><br /> To view a recording of this complimentary webinar, please click the Register button below.</p>  <p><u><strong>Upcoming Sessions</strong></u><br /> <strong>Part III: </strong>The Physician as Independent Contractor-Risks, Rewards and the Emerging Law<br /> <strong>Part IV:</strong> Physician Departures-Discipline, Discharge, and the Physician Employment Agreement<br /> <strong>Part V:</strong> Physician Burnout and the Impaired Physician-Accommodating Physicians While Protecting Patients</p>  <p><u><strong>Previous Sessions</strong></u><br /> <strong>Part I: </strong>Peer Review Privilege - <a href="https://attendee.gotowebinar.com/register/8894798763210661633">Recording</a></p> 
SUMMARY:Physician Non-Compete Agreements: Best Practices for Drafting and Enforcing Noncompetition and Restrictive Covenant Agreements - Complimentary Webinar
PRIORITY:5
CLASS:PUBLIC
BEGIN:VALARM
TRIGGER:PT1440M
ACTION:DISPLAY
DESCRIPTION:Reminder
END:VALARM
END:VEVENT
END:VCALENDAR
