BEGIN:VCALENDAR
PRODID:-//Microsoft Corporation//Outlook 9.0 MIMEDIR//EN
VERSION:2.0
METHOD:PUBLISH
BEGIN:VEVENT
ORGANIZER:MAILTO:noreply@fordharrison.com
DTSTART;VALUE=DATE:20181029
DTEND;VALUE=DATE:20181030
LOCATION: 
TRANSP:OPAQUE
SEQUENCE:0
UID:14376fsxtask
DESCRIPTION:
X-ALT-DESC;FMTTYPE=text/html:<p><em><strong>Stephen Zweig will moderate the panel Outing Sexual Harassment 2.0 - Financial Industry Women (and Men) Speak Out! at the Financial Women&#39;s Association event. </strong></em></p>  <p><strong>When</strong><br /> Monday, October 29, 2018<br /> 5:30 - 8:30 PM</p>  <p><strong>Where</strong><br /> Steelcase<br /> 4 Columbus Circle, 7th Floor<br /> (Entrance at 58th Street and 8th Avenue)<br /> New York, New York 10019</p>  <p><strong>About the Program</strong><br /> Building on the FWA&rsquo;s &ldquo;Outing Sexual Harassment 1.0&rdquo; event in February and armed with data from the FWA&#39;s own survey of sexual harassment in the financial industry, four highly respected panelists will take the discussion to a new level to help individuals create cultures and solutions to address and eliminate sexual harassment in the financial services industry.</p>  <p>&nbsp;Our panelists will address each of the following questions, illustrated by our own Survey results:</p>  <ul> 	<li>What types of sexual harassment are most prevalent in the financial industry?</li> 	<li>How is sexual harassment occurring, where, when, and to whom?</li> 	<li>When does reporting sexual harassment to a manager or HR benefit the employee?</li> 	<li>Why is it so difficult to root out sexual harassment in the financial industry?</li> 	<li>How can sexual harassment in the financial industry be eliminated?</li> </ul>  <p><strong>Panelists</strong>: Dr. Victoria Berger-Gross, Joanne S. Lublin, William D. Cohen, and Bruce Fritch<br /> <strong>Moderator</strong>: Stephen Zweig</p>  <p><strong>Directions</strong><br /> Subway: 1/A/B/C/D to Columbus Circle.<br /> Use Southwest Corner entrance to 4 Columbus Circle, entrance is located at 58th Street and 8th Avenue.</p>  <p><strong>Cost</strong><br /> $25 FWA Members, $50 Non-members | Includes refreshments</p>  <p><strong>Registration</strong><br /> For more information and to register for this event, click <a href="http://member.fwa.org/events/event_details.asp?legacy=1&amp;id=1155697">here</a>.<br /> <em>Space is limited so please register early to ensure admission.</em><br /> Reservations required - Bring photo ID - No walk-ins.<br /> Reservations/cancellations and payment are required by Thursday, October 25.</p>  <p></p>  <p></p> 
SUMMARY:"Outing Sexual Harassment 2.0 - Financial Industry Women (And Men) Speak Out!" FWA - New York, New York
PRIORITY:5
CLASS:PUBLIC
BEGIN:VALARM
TRIGGER:PT1440M
ACTION:DISPLAY
DESCRIPTION:Reminder
END:VALARM
END:VEVENT
END:VCALENDAR
