BEGIN:VCALENDAR
PRODID:-//Microsoft Corporation//Outlook 9.0 MIMEDIR//EN
VERSION:2.0
METHOD:PUBLISH
BEGIN:VEVENT
ORGANIZER:MAILTO:noreply@fordharrison.com
DTSTART;TZID="Etc/UTC":20200227T143000
DTEND;TZID="Etc/UTC":20200227T163000
LOCATION: 
TRANSP:OPAQUE
SEQUENCE:0
UID:15729fsxtask
DESCRIPTION:
X-ALT-DESC;FMTTYPE=text/html:<p>Session 1/4 for 2020 Quarterly Seminars:<br /> <br /> <strong><em>&ldquo;No Union, No Matter &ndash; How Board Decisions Impact You!&ldquo;</em></strong></p>  <ul> 	<li>At the end of 2019, the Labor Board issued a flurry of rulings which have a significant impact on both unionized and <u>non-unionized</u> workplaces.&nbsp; This program will cover how the decisions have changed the legal landscape, often returning to a previous legal standard. These rulings impact employees&rsquo; ability to use work email, &nbsp;arbitration deferrals, and prohibitions on discussing pending investigations, among others.&nbsp; We will also conduct a brief review of Wage and Hour updates for 2020.</li> </ul>  <p><strong>Location</strong>:</p>  <p>Chamber Boardroom&nbsp;<br /> 401 North Flagler Drive<br /> West Palm Beach, FL 33401</p>  <p><strong>Date:&nbsp;</strong><br /> Thursday, February 27, 2020<br /> <strong>Time:&nbsp;</strong><br /> 8:30 a.m. - 10:30 a.m.&nbsp;</p>  <p>To register, please visit: <a href="http://business.palmbeaches.org/events/details/2020-ford-harrison-seminar-series-1-4-no-union-no-matter-how-board-decisions-impact-you-31388">http://business.palmbeaches.org/events/details/2020-ford-harrison-seminar-series-1-4-no-union-no-matter-how-board-decisions-impact-you-31388</a></p> 
SUMMARY:"No Union, No Matter - How Board Decisions Impact You!" - West Palm Beach, FL
PRIORITY:5
CLASS:PUBLIC
BEGIN:VALARM
TRIGGER:PT1440M
ACTION:DISPLAY
DESCRIPTION:Reminder
END:VALARM
END:VEVENT
END:VCALENDAR
