BEGIN:VCALENDAR
PRODID:-//Microsoft Corporation//Outlook 9.0 MIMEDIR//EN
VERSION:2.0
METHOD:PUBLISH
BEGIN:VEVENT
ORGANIZER:MAILTO:noreply@fordharrison.com
DTSTART;VALUE=DATE:20210324
DTEND;VALUE=DATE:20210325
LOCATION: 
TRANSP:OPAQUE
SEQUENCE:0
UID:16488fsxtask
DESCRIPTION:
X-ALT-DESC;FMTTYPE=text/html:<p><em><strong>Dawn Siler-Nixon will be speaking&nbsp;at the 2021 Women in Leadership Symposium during her session&nbsp;&quot;Be the Change you Want to See in the World&quot;. </strong></em><br /> <br /> <strong>When</strong><br /> March 24, 2021<br /> 8:30 am - 11:30&nbsp;am</p> 
SUMMARY:2021 Women in Leadership Symposium - Florida Diversity Council
PRIORITY:5
CLASS:PUBLIC
BEGIN:VALARM
TRIGGER:PT1440M
ACTION:DISPLAY
DESCRIPTION:Reminder
END:VALARM
END:VEVENT
END:VCALENDAR
