BEGIN:VCALENDAR
PRODID:-//Microsoft Corporation//Outlook 9.0 MIMEDIR//EN
VERSION:2.0
METHOD:PUBLISH
BEGIN:VEVENT
ORGANIZER:MAILTO:noreply@fordharrison.com
DTSTART;TZID="Etc/UTC":20220224T140000
DTEND;TZID="Etc/UTC":20220224T150000
LOCATION: 
TRANSP:OPAQUE
SEQUENCE:0
UID:24265fsxtask
DESCRIPTION:
X-ALT-DESC;FMTTYPE=text/html:<p><strong>Thursday, February 24, 2022&nbsp;| 9:00 am - 10:00 am EST</strong></p>  <p>To chime with the Ius Laboris Report on resilience, just published, partners from four countries look at a range of areas impacting how businesses can build back better after Covid: including flexible working, employee mental health, upskilling and ESG (environmental, social and governance issues).</p>  <p>Our hosts are: <a href="https://iuslaboris.com/about/lawyer/arnaud-teissier/">Arnaud Teissier</a> (France), <a href="https://iuslaboris.com/about/lawyer/jose-carlos-wahle/">Jos&eacute; Carlos Wahle</a> (Brazil), David Hopper (UK), and <a href="https://iuslaboris.com/about/lawyer/ornella-patane/">Ornella Patan&eacute;</a> (Italy).</p>  <p><a href="https://iuslaboris.com/event/building-a-resilient-hr-practice/"><strong>Register</strong></a></p> 
SUMMARY:Ius Laboris Webinar - Building a resilient HR practice
PRIORITY:5
CLASS:PUBLIC
BEGIN:VALARM
TRIGGER:PT1440M
ACTION:DISPLAY
DESCRIPTION:Reminder
END:VALARM
END:VEVENT
END:VCALENDAR
