BEGIN:VCALENDAR
PRODID:-//Microsoft Corporation//Outlook 9.0 MIMEDIR//EN
VERSION:2.0
METHOD:PUBLISH
BEGIN:VEVENT
ORGANIZER:MAILTO:noreply@fordharrison.com
DTSTART;VALUE=DATE:20220317
DTEND;VALUE=DATE:20220318
LOCATION: 
TRANSP:OPAQUE
SEQUENCE:0
UID:24344fsxtask
DESCRIPTION:
X-ALT-DESC;FMTTYPE=text/html:<p><strong>Thursday, March 17, 2022&nbsp; | 12:00 pm - 1:00 pm Eastern</strong></p>  <p>The US recently took action against Mexico for labour violations under the trade agreement between the US, Mexico and Canada (the USMCA) and so our panel of lawyers from all three countries provides us with a status update on these issues and their impact. &nbsp;</p>  <p>Our hosts are: <a href="https://www.basham.com.mx/en/abogado/puente-tostado-david-eugenio/">David Puente Tostado</a> (Mexico), <a href="https://iuslaboris.com/about/lawyer/jimena-olivera/">Jimena Olivera</a> (Mexico),<a href="http://www.fordharrison.com/TiffanyDowns">Tiffany Downs</a> (USA), <a href="https://mathewsdinsdale.com/our-team/john-d-r-craig/">John Craig</a> (Canada)&nbsp;</p> 
SUMMARY:Ius Laboris Webinar - Labour Developments Under the USMCA Trade Agreement
PRIORITY:5
CLASS:PUBLIC
BEGIN:VALARM
TRIGGER:PT1440M
ACTION:DISPLAY
DESCRIPTION:Reminder
END:VALARM
END:VEVENT
END:VCALENDAR
