BEGIN:VCALENDAR
PRODID:-//Microsoft Corporation//Outlook 9.0 MIMEDIR//EN
VERSION:2.0
METHOD:PUBLISH
BEGIN:VEVENT
ORGANIZER:MAILTO:noreply@fordharrison.com
DTSTART;TZID="Etc/UTC":20231206T133000
DTEND;TZID="Etc/UTC":20231206T173000
LOCATION: 
TRANSP:OPAQUE
SEQUENCE:0
UID:29003fsxtask
DESCRIPTION:
X-ALT-DESC;FMTTYPE=text/html:<p><strong><em>Register today&nbsp;for our Complimentary Half-Day Managing the Modern Workplace Seminar for In-House Counsel, HR &amp; Business Leaders.&nbsp;</em></strong><br /> <br /> Join FordHarrison attorneys, <a href="https://www.fordharrison.com/coreyfranklin">Corey Franklin</a>, <a href="https://www.fordharrison.com/DohenGallagher">Dohen Gallagher</a>, and <a href="https://www.fordharrison.com/karenmilner">Karen Milner</a> as they provide timely and detailed updates of emerging concerns in labor and employment law at the federal and state level. Topics will include:</p>  <ul> 	<li>Employee Handbooks, Work Rules, and Protected Concerted Activity &ndash; How to Survive the NLRB&rsquo;s Increasing Scrutiny</li> 	<li>A Missouri &amp; Illinois State Law Update</li> 	<li>Artificial Intelligence in Employment: Assessing value, bias, and risk mitigation</li> 	<li>Stump the Chump &ndash; get your questions answered!</li> </ul>  <p><u><strong>When</strong></u><br /> Wednesday, December 6, 2023<br /> 7:30 AM &ndash; 8:00 AM C.T.&nbsp; &nbsp; &nbsp; &nbsp; &nbsp; Registration and Networking Breakfast<br /> 8:00 AM &ndash; 11:30 AM C.T.&nbsp; &nbsp; &nbsp; &nbsp; Program<br /> <br /> <u><strong>Where</strong></u><br /> <a href="https://www.marriott.com/hotels/travel/stlmy-le-meridien-st-louis-clayton/">Le Meridien St. Louis Clayton</a><br /> 7730 Bonhomme Ave.<br /> St. Louis, MO 63105<br /> <em>*Parking validated</em><br /> <br /> <strong><u>Continuing Education</u></strong></p>  <p>This program will offer HRCI, SHRM and CLE continuing education credits.</p>  <p><u><strong>Registration</strong></u><br /> Registration&nbsp;is complimentary, but seating is limited. Please register by Friday, December 1, to save your place.</p> 
SUMMARY:Managing the Modern Workplace: Tips and Trends for Labor and Employment Law Compliance <!-- 2 -->
PRIORITY:5
CLASS:PUBLIC
BEGIN:VALARM
TRIGGER:PT1440M
ACTION:DISPLAY
DESCRIPTION:Reminder
END:VALARM
END:VEVENT
END:VCALENDAR
