BEGIN:VCALENDAR
PRODID:-//Microsoft Corporation//Outlook 9.0 MIMEDIR//EN
VERSION:2.0
METHOD:PUBLISH
BEGIN:VEVENT
ORGANIZER:MAILTO:noreply@fordharrison.com
DTSTART;TZID="Etc/UTC":20231213T150000
DTEND;TZID="Etc/UTC":20231213T160000
LOCATION: 
TRANSP:OPAQUE
SEQUENCE:0
UID:29110fsxtask
DESCRIPTION:
X-ALT-DESC;FMTTYPE=text/html:<p><u><strong>About the Program</strong></u><br /> 2023 has been a tumultuous year for employers. The economy has been a mixed bag with open jobs still close to 10 million, the number of job seekers is well below that number, and the cost of labor has increased substantially. &nbsp;Consequently, employers have continued to grapple with recruitment and retention, as well as contending with the pro-employee agenda of the Biden Administration, which is in full swing. &nbsp;Most notably, the labor movement has gathered steam and is actively organizing employers of all varieties. Employers are living in challenging times when it comes to the recruitment and retention of employees, as well as navigating the many liability exposure traps (some new, some old) that this Administration is pursuing with vigor. This session will explore these issues and provide guidance on navigating the path forward in 2024.</p>  <p>Attendees of this webinar will learn:</p>  <ul> 	<li>Learn about the most pressing employer/employee relations issues, including the rejuvenated labor movement.</li> 	<li>Learn about the most problematic liability exposure pinch-points employers face with employees, including the ADA, FMLA, harassment, and retaliation.</li> 	<li>Learn about proactive strategies to drive recruitment and retention, including how to develop and implement a legally compliant DEI program.&nbsp;</li> </ul>  <p><u><strong>Registration</strong></u>: This 60-minute event is free to attend, but registration is required. &nbsp;</p>  <p><u><strong>Certification</strong></u>: This event has been submitted for 1 SHRM and HRCI certification credit</p> 
SUMMARY:2023 Employment Law Year in Review (And a Preview of 2024) - Tennessee SHRM
PRIORITY:5
CLASS:PUBLIC
BEGIN:VALARM
TRIGGER:PT1440M
ACTION:DISPLAY
DESCRIPTION:Reminder
END:VALARM
END:VEVENT
END:VCALENDAR
