BEGIN:VCALENDAR
PRODID:-//Microsoft Corporation//Outlook 9.0 MIMEDIR//EN
VERSION:2.0
METHOD:PUBLISH
BEGIN:VEVENT
ORGANIZER:MAILTO:noreply@fordharrison.com
DTSTART;TZID="Etc/UTC":20240221T170000
DTEND;TZID="Etc/UTC":20240221T183000
LOCATION: 
TRANSP:OPAQUE
SEQUENCE:0
UID:29490fsxtask
DESCRIPTION:
X-ALT-DESC;FMTTYPE=text/html:<p><u><strong>When</strong></u><br /> February 21, 2024 | 12:00 - 1:30 PM EST</p>  <p><u><strong>Where</strong></u><br /> It&#39;s a Southern Thing<br /> 605 West Main St Durham, NC 27701</p>  <p><u><strong>About the Event</strong></u><br /> Join us for an insightful conversation led by <strong><a href="https://www.fordharrison.com/DawnSiler-Nixon">Dawn Siler-Nixon</a></strong>, Diversity, Equity &amp; Inclusion Partner for FordHarrison. Topics will include navigating the new legal landscape to advance workforce diversity and the continued importance of bringing underrepresented talent into today&#39;s workforce.<br /> <br /> Founded by James Lucier and sponsored by Peak Performers, a national nonprofit staffing firm, The National DEI Roundtable&trade; is a premier convener of DEI leaders, practitioners, and champions for the purpose of creating a professional network to resource and support each other.</p>  <p><u><strong>Registration</strong></u><br /> For more information and to register, click <a href="https://www.eventcreate.com/e/the-national-dei-roundtable-raleigh">here</a>.</p> 
SUMMARY:The National DEI Roundtable™ – Raleigh DEI Roundtable | Raleigh, NC
PRIORITY:5
CLASS:PUBLIC
BEGIN:VALARM
TRIGGER:PT1440M
ACTION:DISPLAY
DESCRIPTION:Reminder
END:VALARM
END:VEVENT
END:VCALENDAR
