BEGIN:VCALENDAR
PRODID:-//Microsoft Corporation//Outlook 9.0 MIMEDIR//EN
VERSION:2.0
METHOD:PUBLISH
BEGIN:VEVENT
ORGANIZER:MAILTO:noreply@fordharrison.com
DTSTART;TZID="Etc/UTC":20241029T170000
DTEND;TZID="Etc/UTC":20241029T183000
LOCATION: 
TRANSP:OPAQUE
SEQUENCE:0
UID:31120fsxtask
DESCRIPTION:
X-ALT-DESC;FMTTYPE=text/html:<p><u><strong>When</strong></u><br /> October 30, 2024 | 12:00 - 1:30 PM CST</p>  <p><u><strong>Where</strong></u><br /> <span style="font-size:12pt"><span style="font-family:Aptos,sans-serif"><span style="font-size:11.0pt"><span style="font-family:&quot;Arial&quot;,sans-serif"><span style="color:#1d2228">Haywire Uptown Dallas</span></span></span></span></span><br /> <span style="font-size:12pt"><span style="font-family:Aptos,sans-serif"><span style="font-size:11.0pt"><span style="font-family:&quot;Arial&quot;,sans-serif"><span style="color:#1d2228">1920 McKinney Ave, Suite 100, Dallas, TX</span></span></span></span></span><br /> <br /> <u><strong>About the Event</strong></u><br /> Arrive early to network with local industry peers, and then join the roundtable discussion with other contingent workforce and diversity leaders led by <strong><a href="https://www.fordharrison.com/DawnSiler-Nixon">Dawn Siler-Nixon</a></strong>,&nbsp;DEI Partner, FordHarrison and Myles Wallace, Disability Inclusion Partner, Peak Performers.<br /> <br /> In a roundtable format, we will discuss insights and foresights on the current state and future outlook of contingent work and inclusivity from lived experiences, qualitative research, and a legal perspective. You can expect enlightening and empowering ideas on how inclusive hiring can help you achieve key priorities and solve critical challenges in your contingent workforce.</p>  <p><u><strong>Registration</strong></u><br /> Seating is limited. For more information and to register, click <a href="https://www.eventcreate.com/e/national-disability-roundtable-dallas">here</a>.</p> 
SUMMARY:"Advancing Disability Inclusive Hiring in Your Contingent Workforce Program" - The National Disability Inclusion Roundtable™ | Dallas, TX 
PRIORITY:5
CLASS:PUBLIC
BEGIN:VALARM
TRIGGER:PT1440M
ACTION:DISPLAY
DESCRIPTION:Reminder
END:VALARM
END:VEVENT
END:VCALENDAR
