BEGIN:VCALENDAR
PRODID:-//Microsoft Corporation//Outlook 9.0 MIMEDIR//EN
VERSION:2.0
METHOD:PUBLISH
BEGIN:VEVENT
ORGANIZER:MAILTO:noreply@fordharrison.com
DTSTART;TZID="Etc/UTC":20241211T180000
DTEND;TZID="Etc/UTC":20241211T073000
LOCATION: 
TRANSP:OPAQUE
SEQUENCE:0
UID:31391fsxtask
DESCRIPTION:
X-ALT-DESC;FMTTYPE=text/html:<p><u><strong>When</strong></u><br /> December 11, 2024 | 12:00 - 1:30 PM CST</p>  <p><u><strong>Where</strong></u><br /> Etch Restaurant<br /> 303 Demonbreun St, Nashville, TN 37201</p>  <p><u><strong>About the Event</strong></u><br /> Arrive early to network with local industry peers, and then join the roundtable discussion with other contingent workforce and diversity leaders led by <strong><a href="https://www.fordharrison.com/DawnSiler-Nixon">Dawn Siler-Nixon</a></strong>, DEI Partner, FordHarrison.<br /> <br /> In a roundtable format, we will discuss insights and foresights on the current state and future outlook of contingent work and inclusivity from lived experiences, qualitative research, and a legal perspective.&nbsp;You can expect&nbsp;enlightening and empowering ideas on how inclusive hiring can help you achieve key priorities and solve critical challenges in your contingent workforce.</p>  <p><u><strong>Registration</strong></u><br /> Seating is limited. For more information and to register, <a href="http://www.eventcreate.com/e/national-disability-inclusion-roundtable-nashville">click here</a>.</p>  <p></p> 
SUMMARY:"Advancing Disability Inclusive Hiring in Your Contingent Workforce Program" - The National Disability Inclusion Roundtable™ | Nashville, TN
PRIORITY:5
CLASS:PUBLIC
BEGIN:VALARM
TRIGGER:PT1440M
ACTION:DISPLAY
DESCRIPTION:Reminder
END:VALARM
END:VEVENT
END:VCALENDAR
