BEGIN:VCALENDAR
PRODID:-//Microsoft Corporation//Outlook 9.0 MIMEDIR//EN
VERSION:2.0
METHOD:PUBLISH
BEGIN:VEVENT
ORGANIZER:MAILTO:noreply@fordharrison.com
DTSTART;TZID="Etc/UTC":20250305T170000
DTEND;TZID="Etc/UTC":20250305T060000
LOCATION: 
TRANSP:OPAQUE
SEQUENCE:0
UID:31734fsxtask
DESCRIPTION:
X-ALT-DESC;FMTTYPE=text/html:<p><u><strong>DATE</strong></u><br /> Wednesday, March 5, 2025<br /> 11:00 AM - 12:00&nbsp;PM CENTRAL</p>  <p><u><strong>ABOUT THE PROGRAM</strong></u><br /> We start 2025 with a new administration and notable changes to federal employment agencies.&nbsp;<br /> Join us for a one-hour webinar as we discuss the impact these fast-moving changes may have on your workforce in the coming months and years and discuss ways to plan for potential changes on the horizon preemptively.<br /> Attendees of this webinar will learn:</p>  <ul> 	<li>Updates to employment laws,</li> 	<li>Ensuring compliance with federal laws,</li> 	<li>Understanding expected changes and how to preemptively prepare for compliance.</li> </ul>  <p><u><strong>CONTINUING EDUCATION</strong></u></p>  <p>Certification: This event has been submitted for 1 SHRM and 1 HRCI certification credit.</p>  <p><u><strong>REGISTRATION</strong></u><br /> To register for this complimentary session, click the&nbsp;<a href="https://tnshrm.org/meetinginfo.php?id=74&amp;ts=1739568348"><strong>REGISTER HERE</strong></a>&nbsp;button below.</p> 
SUMMARY:Navigating Employment Law Changes in 2025: What the New Trump Administration Means for Employers - TNSHRM Webinar
PRIORITY:5
CLASS:PUBLIC
BEGIN:VALARM
TRIGGER:PT1440M
ACTION:DISPLAY
DESCRIPTION:Reminder
END:VALARM
END:VEVENT
END:VCALENDAR
