BEGIN:VCALENDAR
PRODID:-//Microsoft Corporation//Outlook 9.0 MIMEDIR//EN
VERSION:2.0
METHOD:PUBLISH
BEGIN:VEVENT
ORGANIZER:MAILTO:noreply@fordharrison.com
DTSTART;TZID="Etc/UTC":20250319T170000
DTEND;TZID="Etc/UTC":20250319T173000
LOCATION: 
TRANSP:OPAQUE
SEQUENCE:0
UID:31856fsxtask
DESCRIPTION:
X-ALT-DESC;FMTTYPE=text/html:<p><u><strong>DATE</strong></u><br /> Wednesday, March 19, 2025<br /> 1:00 PM - 1:30 PM EASTERN</p>  <p><u><strong>ABOUT THE PROGRAM</strong></u><br /> Join FordHarrison for our Allyship Series, &quot;The Allyship Exchange: Insights from Innovators,&quot;&nbsp;where attendees will have the opportunity to listen and engage with key business leaders in thought-provoking interviews exploring the topic of how to be an ally and the importance of allyship&nbsp;in the workplace. In <strong>Part 2&nbsp;</strong>of the series, <a href="https://www.linkedin.com/in/james-lucier/"><strong>James Lucier</strong></a>, Chief Growth Officer, Peak Performers &amp; Founder of The National Disability Roundtable and The National DEI Roundtable joins <strong><a href="https://www.fordharrison.com/DawnSiler-Nixon">Dawn Siler-Nixon</a></strong>, Diversity, Equity, and Inclusion Partner for an insightful discussion&nbsp;on the critical role of allyship in fostering inclusive and thriving workplaces.<br /> <br /> At the conclusion of the interview, there will be a 10 minute Q&amp;A session. If you have questions for James/Dawn that you would like to potentially be discussed, please send your question(s) to Josh Irvin (<a href="mailto:jirvin@fordharrison.com">jirvin@fordharrison.com</a>).&nbsp;<br /> <br /> <u><strong>CONTINUING EDUCATION</strong></u></p>  <ul> 	<li>FordHarrison is recognized by SHRM to offer Professional Development Credits (PDCs) for the SHRM-CPSM or SHRM-SCPSM. This course is approved for 0.5 hours of PDCs.&nbsp;</li> 	<li>FordHarrison is an accredited provider of CLE by the State Bar of California. This program is preapproved for 0.5 hours of General CLE in California.</li> 	<li>To request CLE for your specific state, please reach out to <a href="mailto:continuingedprograms@fordharrison.com">continuingedprograms@fordharrison.com</a> and request your California Certificate which you can use to apply to your state bar.</li> </ul>  <p><u><strong>REGISTRATION</strong></u><br /> To register for this complimentary session, click the&nbsp;<a href="https://fordharrison.zoom.us/meeting/register/0nJ8t16QQVS18mgDkBVPZg"><strong>REGISTER HERE</strong></a>&nbsp;button above.</p> 
SUMMARY:The Allyship Exchange: Insights from Innovators - Part 2
PRIORITY:5
CLASS:PUBLIC
BEGIN:VALARM
TRIGGER:PT1440M
ACTION:DISPLAY
DESCRIPTION:Reminder
END:VALARM
END:VEVENT
END:VCALENDAR
