BEGIN:VCALENDAR
PRODID:-//Microsoft Corporation//Outlook 9.0 MIMEDIR//EN
VERSION:2.0
METHOD:PUBLISH
BEGIN:VEVENT
ORGANIZER:MAILTO:noreply@fordharrison.com
DTSTART;VALUE=DATE:20120321
DTEND;VALUE=DATE:20120324
LOCATION: The Ritz-Carlton Hotel Downtown 181 Peachtree Street Atlanta, GA 30303
TRANSP:OPAQUE
SEQUENCE:0
UID:8457fsxtask
DESCRIPTION:
X-ALT-DESC;FMTTYPE=text/html:
SUMMARY:7th Annual Leadership Institute Women of Color - Atlanta, GA
PRIORITY:5
CLASS:PUBLIC
BEGIN:VALARM
TRIGGER:PT1440M
ACTION:DISPLAY
DESCRIPTION:Reminder
END:VALARM
END:VEVENT
END:VCALENDAR
