BEGIN:VCALENDAR
PRODID:-//Microsoft Corporation//Outlook 9.0 MIMEDIR//EN
VERSION:2.0
METHOD:PUBLISH
BEGIN:VEVENT
ORGANIZER:MAILTO:noreply@fordharrison.com
DTSTART;VALUE=DATE:20120328
DTEND;VALUE=DATE:20120332
LOCATION: Westin Jersey City Newport 479 Washington Boulevard Jersey City, NJ 07310
TRANSP:OPAQUE
SEQUENCE:0
UID:8458fsxtask
DESCRIPTION:
X-ALT-DESC;FMTTYPE=text/html:
SUMMARY:Hispanic National Bar Association Midyear Corporate Counsel Conference - Jersey City, NJ
PRIORITY:5
CLASS:PUBLIC
BEGIN:VALARM
TRIGGER:PT1440M
ACTION:DISPLAY
DESCRIPTION:Reminder
END:VALARM
END:VEVENT
END:VCALENDAR
