BEGIN:VCALENDAR
PRODID:-//Microsoft Corporation//Outlook 9.0 MIMEDIR//EN
VERSION:2.0
METHOD:PUBLISH
BEGIN:VEVENT
ORGANIZER:MAILTO:noreply@fordharrison.com
DTSTART;TZID="Etc/UTC":20120412T130000
DTEND;TZID="Etc/UTC":20120412T220000
LOCATION: Crowne Plaza Orlando Universal 7800 Universal Boulevard Orlando, FL 32819 
TRANSP:OPAQUE
SEQUENCE:0
UID:8459fsxtask
DESCRIPTION:
X-ALT-DESC;FMTTYPE=text/html:
SUMMARY:3rd Annual Florida Diversity & Leadership Conference - Orlando, FL
PRIORITY:5
CLASS:PUBLIC
BEGIN:VALARM
TRIGGER:PT1440M
ACTION:DISPLAY
DESCRIPTION:Reminder
END:VALARM
END:VEVENT
END:VCALENDAR
