BEGIN:VCALENDAR
PRODID:-//Microsoft Corporation//Outlook 9.0 MIMEDIR//EN
VERSION:2.0
METHOD:PUBLISH
BEGIN:VEVENT
ORGANIZER:MAILTO:noreply@fordharrison.com
DTSTART;TZID="Etc/UTC":20120425T130000
DTEND;TZID="Etc/UTC":20120425T210000
LOCATION: New York Hilton 1335 Avenue of the Americas New York, NY 10019
TRANSP:OPAQUE
SEQUENCE:0
UID:8460fsxtask
DESCRIPTION:
X-ALT-DESC;FMTTYPE=text/html:
SUMMARY:Corporate Counsel Women of Color One-Day Career Strategies Conference for Law Firm Associates - New York, NY
PRIORITY:5
CLASS:PUBLIC
BEGIN:VALARM
TRIGGER:PT1440M
ACTION:DISPLAY
DESCRIPTION:Reminder
END:VALARM
END:VEVENT
END:VCALENDAR
