BEGIN:VCALENDAR
PRODID:-//Microsoft Corporation//Outlook 9.0 MIMEDIR//EN
VERSION:2.0
METHOD:PUBLISH
BEGIN:VEVENT
ORGANIZER:MAILTO:noreply@fordharrison.com
DTSTART;VALUE=DATE:20130621
DTEND;VALUE=DATE:20130622
LOCATION:   Moffitt Cancer CenterStabile Research Building - Couch Auditorium 12902 Magnolia Drive Tampa, FL 33612  
TRANSP:OPAQUE
SEQUENCE:0
UID:9329fsxtask
DESCRIPTION:
X-ALT-DESC;FMTTYPE=text/html:<p><br /> <strong>About the Program</strong><br /> FordHarrison attorney Aisha Sanchez is a chair of the 2013 Florida LGBT-Allies Diversity Summit taking place at the Moffitt Cancer Center on June 21.&nbsp; The event will feature keynote speaker Caroline Gundeck, Managing Director of Morgan Stanley, and representatives from the Human Rights campaign. Attendees will explore the Corporate Equality Index and learn about cost-effective and creative best practices for inclusion of LGBT team members in the workplace.</p> 
SUMMARY:2nd Annual Florida LGBT-Allies Diversity Summit - Tampa, FL
PRIORITY:5
CLASS:PUBLIC
BEGIN:VALARM
TRIGGER:PT1440M
ACTION:DISPLAY
DESCRIPTION:Reminder
END:VALARM
END:VEVENT
END:VCALENDAR
