BEGIN:VCALENDAR
PRODID:-//Microsoft Corporation//Outlook 9.0 MIMEDIR//EN
VERSION:2.0
METHOD:PUBLISH
BEGIN:VEVENT
ORGANIZER:MAILTO:noreply@fordharrison.com
DTSTART;VALUE=DATE:20130829
DTEND;VALUE=DATE:20130830
LOCATION:  Where Carlsberg Group Headquarters at Ny Carlsberg Vej 100, 1799 Copenhagen V, Denmark
TRANSP:OPAQUE
SEQUENCE:0
UID:9355fsxtask
DESCRIPTION:
X-ALT-DESC;FMTTYPE=text/html:<p><br /> <strong>About the Program</strong><br /> On August 29, Ius Laboris member firm Norrbom Vinding is hosting a full day seminar offering practical solutions for employers with employees abroad. The topics to be covered include whistleblowing, discrimination, data protection and global hot topics. Speakers and panelists from Carlsberg, LEGO, A.P. Moller-Maersk, Capstan, Alrud, Lewis Silkin, Raczkowskii Wsp&oacute;lnicy, Kohhar &amp; Co. and Norrbom Vinding will be on hand to discuss these topics and answer questions.</p>  <p>For more information, or to register to attend, please <a href="http://www.iuslaboris.com/events?eventid=54">click here</a>.</p>  <p></p> 
SUMMARY:"Employing People Abroad - Practical Solutions to New Challenges" Ius Laboris global human resources law seminar - Copenhagen, Denmark
PRIORITY:5
CLASS:PUBLIC
BEGIN:VALARM
TRIGGER:PT1440M
ACTION:DISPLAY
DESCRIPTION:Reminder
END:VALARM
END:VEVENT
END:VCALENDAR
